BEGIN:VCALENDAR
VERSION:2.0
PRODID:www.gruene-in-halle.de
METHOD:PUBLISH
BEGIN:VTIMEZONE
TZID:Europe/Berlin
X-LIC-LOCATION:Europe/Berlin
BEGIN:DAYLIGHT
TZOFFSETFROM:+0100
TZOFFSETTO:+0200
TZNAME:CEST
DTSTART:19700329T020000
RRULE:FREQ=YEARLY;INTERVAL=1;BYDAY=-1SU;BYMONTH=3
END:DAYLIGHT
BEGIN:STANDARD
TZOFFSETFROM:+0200
TZOFFSETTO:+0100
TZNAME:CET
DTSTART:19701025T030000
RRULE:FREQ=YEARLY;INTERVAL=1;BYDAY=-1SU;BYMONTH=10
END:STANDARD
END:VTIMEZONE
BEGIN:VEVENT
UID:d83b51ff780ed924085f4963725aaccc@www.gruene-in-halle.de
URL;VALUE=URI:https://www.gruene-in-halle.de/blog/termine/stammtisch/
LOCATION:Spielehaus e.V. - Café und Brettspiele, Franckepl. 1/Haus 32, 0
 6110 Halle (Saale)
SUMMARY:GRÜNER Stammtisch
DESCRIPTION;ALTREP="data:text/html,%0A%3Cp%3EBeim%20Stammtisch%20kannst%2
 0du%20in%20entspannter%20Atmosph%C3%A4re%20neue%20Leute%20kennenlernen%20
 und%20dich%20%C3%BCber%20alle%20m%C3%B6glichen%20Themen%20austauschen.%20
 Es%20ist%20die%20perfekte%20Gelegenheit%2C%20um%20einfach%20mal%20vorbeiz
 uschauen%20und%20nette%20Gespr%C3%A4che.%20zu%20f%C3%BChren.%3C%2Fp%3E%0A
 %0A%0A%0A%3Cp%3E%3C%2Fp%3E%0A":Beim Stammtisch kannst du in entspannter A
 tmosphäre neue Leute kennenlernen und dich über alle möglichen Themen 
 austauschen. Es ist die perfekte Gelegenheit\, um einfach mal vorbeizusch
 auen und nette Gespräche. zu führen.
CLASS:PUBLIC
DTSTART;TZID=Europe/Berlin:20250908T190000
DTEND;TZID=Europe/Berlin:20250908T200000
DTSTAMP:20260421T142911
END:VEVENT
END:VCALENDAR