BEGIN:VCALENDAR
VERSION:2.0
PRODID:www.gruene-in-halle.de
METHOD:PUBLISH
BEGIN:VTIMEZONE
TZID:Europe/Berlin
X-LIC-LOCATION:Europe/Berlin
BEGIN:DAYLIGHT
TZOFFSETFROM:+0100
TZOFFSETTO:+0200
TZNAME:CEST
DTSTART:19700329T020000
RRULE:FREQ=YEARLY;INTERVAL=1;BYDAY=-1SU;BYMONTH=3
END:DAYLIGHT
BEGIN:STANDARD
TZOFFSETFROM:+0200
TZOFFSETTO:+0100
TZNAME:CET
DTSTART:19701025T030000
RRULE:FREQ=YEARLY;INTERVAL=1;BYDAY=-1SU;BYMONTH=10
END:STANDARD
END:VTIMEZONE
BEGIN:VEVENT
UID:8e83ef0c84e274498ae37a895aa7e9b6@www.gruene-in-halle.de
URL;VALUE=URI:https://www.gruene-in-halle.de/blog/termine/europaeischer-w
 ahlkampfstand-mit-anna-luehrmann-mdb/
LOCATION:Steintor, Am Steintor, 06112 Halle
SUMMARY:Europäischer Wahlkampfstand mit Anna Lührmann (MdB)
DESCRIPTION;ALTREP="data:text/html,%0A%3Cp%20class%3D%22has-tanne-color%2
 0has-text-color%20has-link-color%20wp-elements-440a2e6ddb371a7f8be9939aca
 14356e%22%3E%3Cstrong%3E%3Cem%3EAm%2005.06.2024%20von%2015-16%3A30%20Uhr%
 20besucht%20uns%20Anna%20L%C3%BChrmann%20%28Bundestagsabgeordnete%20und%2
 0Staatsministerin%20f%C3%BCr%20Europa%20und%20Klima%20im%20Ausw%C3%A4rtig
 en%20Amt%29%20an%20unserem%20Wahlkampfstand%20am%20Steintor%21%20Kommt%20
 vorbei%2C%20um%20mit%20ihr%20ins%20Gespr%C3%A4ch%20zu%20kommen%20und%20eu
 ch%20%C3%BCber%20unsere%20gr%C3%BCnen%20Ideen%20f%C3%BCr%20Europa%20zu%20
 informieren.%20Gemeinsam%20k%C3%B6nnen%20wir%20Europas%20Zukunft%20mitges
 talten%21%20%F0%9F%87%AA%F0%9F%87%BA%F0%9F%92%9A%3C%2Fem%3E%3C%2Fstrong%3
 E%3C%2Fp%3E%0A":Am 05.06.2024 von 15-16:30 Uhr besucht uns Anna Lührmann
  (Bundestagsabgeordnete und Staatsministerin für Europa und Klima im Aus
 wärtigen Amt) an unserem Wahlkampfstand am Steintor! Kommt vorbei\, um m
 it ihr ins Gespräch zu kommen und euch über unsere grünen Ideen für E
 uropa zu informieren. Gemeinsam können wir Europas Zukunft mitgestalten!
  🇪🇺💚
CLASS:PUBLIC
DTSTART;TZID=Europe/Berlin:20240605T150000
DTEND;TZID=Europe/Berlin:20240605T163000
DTSTAMP:20260421T094405
END:VEVENT
END:VCALENDAR