BEGIN:VCALENDAR
VERSION:2.0
PRODID:www.gruene-in-halle.de
METHOD:PUBLISH
BEGIN:VTIMEZONE
TZID:Europe/Berlin
X-LIC-LOCATION:Europe/Berlin
BEGIN:DAYLIGHT
TZOFFSETFROM:+0100
TZOFFSETTO:+0200
TZNAME:CEST
DTSTART:19700329T020000
RRULE:FREQ=YEARLY;INTERVAL=1;BYDAY=-1SU;BYMONTH=3
END:DAYLIGHT
BEGIN:STANDARD
TZOFFSETFROM:+0200
TZOFFSETTO:+0100
TZNAME:CET
DTSTART:19701025T030000
RRULE:FREQ=YEARLY;INTERVAL=1;BYDAY=-1SU;BYMONTH=10
END:STANDARD
END:VTIMEZONE
BEGIN:VEVENT
UID:87ef9e99e5760326aa4003afa683e20d@www.gruene-in-halle.de
URL;VALUE=URI:https://www.gruene-in-halle.de/blog/termine/%e2%98%80%ef%b8
 %8f-wir-verabschieden-uns-in-den-sommer-%e2%98%80%ef%b8%8f/
LOCATION:
SUMMARY:☀️ Wir verabschieden uns in den Sommer ☀️
DESCRIPTION;ALTREP="data:text/html,%0A%3Ch1%20class%3D%22wp-block-heading
 %22%3E%3Cbr%3EBis%20zum%2008.08.%20verabschieden%20wir%20uns%20in%20die%2
 0Pause.%20Das%20bedeutet%20f%C3%BCr%20euch%3A%3Cbr%3E%E2%9D%8C%20B%C3%BCr
 o%20geschlossen%20-%20Termine%20auf%20Anfrage%20m%C3%B6glich%3Cbr%3E%E2%9
 C%85%20per%20Mail%20erreichbar%3Cbr%3E%3Cbr%3EHabt%20einen%20sch%C3%B6nen
 %20Sommer%20und%20hoffentlich%20eine%20wohlverdiente%20Auszeit%21%3C%2Fh1
 %3E%0A":Bis zum 08.08. verabschieden wir uns in die Pause. Das bedeutet f
 ür euch:❌ Büro geschlossen - Termine auf Anfrage möglich✅ per Mail
  erreichbarHabt einen schönen Sommer und hoffentlich eine wohlverdiente 
 Auszeit!
CLASS:PUBLIC
DTSTART;TZID=Europe/Berlin:20250707
DTEND;TZID=Europe/Berlin:20250709
DTSTAMP:20260421T094226
END:VEVENT
END:VCALENDAR